10 de agosto de 2021<\/SPAN><\/P><\/DIV><\/DIV><\/DIV>",
"serviceItemId": "eb2866c946da4f3b96045ff31f7c25ad",
"name": "C03ORT_ORTOS2021",
"description": "10 de agosto de 2021<\/span><\/p><\/div><\/div><\/div>",
"extent": {
"xmin": -51199.972911883146,
"ymin": 165999.95636936495,
"xmax": -38399.972911882876,
"ymax": 178999.9563693665,
"spatialReference": {
"wkid": 3763,
"latestWkid": 3763
}
},
"initialExtent": {
"xmin": -51199.972911883146,
"ymin": 165999.95636936495,
"xmax": -38399.972911882876,
"ymax": 178999.9563693665,
"spatialReference": {
"wkid": 3763,
"latestWkid": 3763
}
},
"fullExtent": {
"xmin": -51199.972911883146,
"ymin": 165999.95636936495,
"xmax": -38399.972911882876,
"ymax": 178999.9563693665,
"spatialReference": {
"wkid": 3763,
"latestWkid": 3763
}
},
"sortableFields": "",
"bandCount": 3,
"pixelType": "U8",
"minValues": [
1,
1,
1
],
"maxValues": [
255,
255,
255
],
"meanValues": [
101.25419646289916,
97.54036167156023,
92.76839698506669
],
"stdvValues": [
68.9651245117479,
53.63555019143255,
51.29204965704482
],
"serviceProperties": "Center<\/MosaicMethod>First<\/MosaicOperator>true<\/SortAscending><\/LockImageID><\/TileOrderField>0<\/TileOrderBase>0,000000<\/AvgImageSpacingX>0,000000<\/AvgImageSpacingY>0.0<\/ViewPointX>0.0<\/ViewPointY>0.0<\/ViewPointDefShiftX>0.0<\/ViewPointDefShiftY>None<\/CompressionMethod>75<\/CompressionQuality>0,010000<\/CompressionTolerance>Bilinear<\/SamplingMethod><\/ImageServiceProperties><\/ImageServer>",
"allowedFields": "",
"hasMultidimensions": false,
"pixelSizeX": 0.1000000000000021,
"pixelSizeY": 0.10000000000001187,
"meanPixelSize": 0.10000000000000699,
"datasetFormat": "FGDBR",
"uncompressedSize": 49919616000,
"blockWidth": 128,
"blockHeight": 128,
"compressionType": "LZ77",
"bandNames": [
"Band_1",
"Band_2",
"Band_3"
],
"allowCopy": true,
"allowAnalysis": true,
"itemAccess": false,
"inspectionCapabilities": "",
"minPixelSize": 0,
"maxPixelSize": 0,
"copyrightText": "",
"serviceDataType": "esriImageServiceDataTypeRGB",
"serviceSourceType": "esriImageServiceSourceTypeDataset",
"objectIdField": "",
"fields": [],
"capabilities": "Image,Metadata,Mensuration",
"defaultMosaicMethod": "Center",
"allowedMosaicMethods": "",
"sortField": "",
"sortValue": null,
"sortAscending": true,
"mosaicOperator": "First",
"defaultCompressionQuality": 75,
"defaultResamplingMethod": "Bilinear",
"maxImageHeight": 4100,
"maxImageWidth": 15000,
"allowRasterFunction": true,
"rasterFunctionInfos": [
{
"name": "None",
"description": "",
"help": ""
}
],
"rasterTypeInfos": [
{
"name": "Raster Dataset",
"description": "Supports all ArcGIS Raster Datasets",
"help": ""
}
],
"mensurationCapabilities": "Basic",
"hasHistograms": true,
"hasColormap": false,
"hasRasterAttributeTable": false,
"minScale": 0,
"maxScale": 0,
"exportTilesAllowed": false,
"supportsStatistics": false,
"supportsAdvancedQueries": false,
"editFieldsInfo": null,
"ownershipBasedAccessControlForRasters": null,
"allowComputeTiePoints": false,
"useStandardizedQueries": true,
"advancedQueryCapabilities": {
"useStandardizedQueries": true,
"supportsStatistics": false,
"supportsOrderBy": false,
"supportsDistinct": false,
"supportsPagination": false
},
"spatialReference": {
"wkid": 3763,
"latestWkid": 3763
}
}