{
 "currentVersion": 11.5,
 "serviceDescription": "C03ORT_ORTOS2025",
 "serviceItemId": "9a080bba4076419f90aa8e63728effe1",
 "name": "C03ORT_ORTOS2025",
 "description": "",
 "extent": {
  "xmin": -50014.372911999,
  "ymin": 167016.55637001377,
  "xmax": -38737.072911999,
  "ymax": 178416.45637001377,
  "spatialReference": {
   "wkid": 3763,
   "latestWkid": 3763
  }
 },
 "initialExtent": {
  "xmin": -50014.372911999,
  "ymin": 167016.55637001377,
  "xmax": -38737.072911999,
  "ymax": 178416.45637001377,
  "spatialReference": {
   "wkid": 3763,
   "latestWkid": 3763
  }
 },
 "fullExtent": {
  "xmin": -50014.372911999,
  "ymin": 167016.55637001377,
  "xmax": -38737.072911999,
  "ymax": 178416.45637001377,
  "spatialReference": {
   "wkid": 3763,
   "latestWkid": 3763
  }
 },
 "sortableFields": "",
 "bandCount": 4,
 "pixelType": "U8",
 "minValues": [
  1,
  1,
  1,
  1
 ],
 "maxValues": [
  255,
  255,
  255,
  255
 ],
 "meanValues": [
  115.25483769060563,
  114.47682981829641,
  118.03877908071905,
  254.937121059557
 ],
 "stdvValues": [
  60.77431877033034,
  52.325417188876244,
  49.11431224067383,
  3.265408821114934
 ],
 "serviceProperties": "Center<\/MosaicMethod>First<\/MosaicOperator>true<\/SortAscending><\/LockImageID><\/TileOrderField>0<\/TileOrderBase>0,000000<\/AvgImageSpacingX>0,000000<\/AvgImageSpacingY>0.0<\/ViewPointX>0.0<\/ViewPointY>0.0<\/ViewPointDefShiftX>0.0<\/ViewPointDefShiftY>None<\/CompressionMethod>75<\/CompressionQuality>0,010000<\/CompressionTolerance>Bilinear<\/SamplingMethod><\/ImageServiceProperties><\/ImageServer>",
 "allowedFields": "",
 "hasMultidimensions": false,
 "pixelSizeX": 0.10000000000000002,
 "pixelSizeY": 0.09999999999999995,
 "meanPixelSize": 0.09999999999999998,
 "datasetFormat": "FGDBR",
 "uncompressedSize": 51424036908,
 "blockWidth": 128,
 "blockHeight": 128,
 "compressionType": "LZ77",
 "bandNames": [
  "Band_1",
  "Band_2",
  "Band_3",
  "Band_4"
 ],
 "allowCopy": true,
 "allowAnalysis": true,
 "itemAccess": false,
 "inspectionCapabilities": "",
 "minPixelSize": 0,
 "maxPixelSize": 0,
 "copyrightText": "",
 "serviceDataType": "esriImageServiceDataTypeGeneric",
 "serviceSourceType": "esriImageServiceSourceTypeDataset",
 "objectIdField": "",
 "fields": [],
 "capabilities": "Image,Metadata,Mensuration",
 "defaultMosaicMethod": "Center",
 "allowedMosaicMethods": "",
 "sortField": "",
 "sortValue": null,
 "sortAscending": true,
 "mosaicOperator": "First",
 "defaultCompressionQuality": 75,
 "defaultResamplingMethod": "Bilinear",
 "maxImageHeight": 4100,
 "maxImageWidth": 15000,
 "allowRasterFunction": true,
 "rasterFunctionInfos": [
  {
   "name": "None",
   "description": "",
   "help": ""
  }
 ],
 "rasterTypeInfos": [
  {
   "name": "Raster Dataset",
   "description": "Supports all ArcGIS Raster Datasets",
   "help": ""
  }
 ],
 "mensurationCapabilities": "Basic",
 "hasHistograms": true,
 "hasColormap": false,
 "hasRasterAttributeTable": false,
 "minScale": 0,
 "maxScale": 0,
 "exportTilesAllowed": false,
 "supportsStatistics": false,
 "supportsAdvancedQueries": false,
 "editFieldsInfo": null,
 "ownershipBasedAccessControlForRasters": null,
 "allowComputeTiePoints": false,
 "useStandardizedQueries": true,
 "advancedQueryCapabilities": {
  "useStandardizedQueries": true,
  "supportsStatistics": false,
  "supportsOrderBy": false,
  "supportsDistinct": false,
  "supportsPagination": false
 },
 "spatialReference": {
  "wkid": 3763,
  "latestWkid": 3763
 }
}
