View In:
ArcGIS JavaScript
ArcGIS Online Map Viewer
ArcGIS Earth
Service Description: Cartografia_1896
Name: Cartografia_1896
Description:
Single Fused Map Cache: false
Extent:
XMin: -48251.77300236374
YMin: 167739.2790587237
XMax: -45596.60528069083
YMax: 170330.10817737598
Spatial Reference: 3763
(3763)
LatestVCSWkid(0)
Initial Extent:
XMin: -48251.77300236374
YMin: 167739.2790587237
XMax: -45596.60528069083
YMax: 170330.10817737598
Spatial Reference: 3763
(3763)
LatestVCSWkid(0)
Full Extent:
XMin: -48251.77300236374
YMin: 167739.2790587237
XMax: -45596.60528069083
YMax: 170330.10817737598
Spatial Reference: 3763
(3763)
LatestVCSWkid(0)
Pixel Size X: 0.3200925523415208
Pixel Size Y: 0.3200925523415208
Band Count: 3
Pixel Type: U8
RasterFunction Infos: {"rasterFunctionInfos": [{
"name": "None",
"description": "",
"help": ""
}]}
Mensuration Capabilities: Basic
Inspection Capabilities:
Has Histograms: true
Has Colormap: false
Has Multi Dimensions : false
Rendering Rule:
Min Scale: 0
Max Scale: 0
Copyright Text:
Service Data Type: esriImageServiceDataTypeRGB
Min Values: 83, 47, 41
Max Values: 237, 210, 182
Mean Values: 208.866536591278, 184.14740773912592, 148.1585631546769
Standard Deviation Values: 12.382825086908822, 16.25364818308989, 12.67481490234703
Object ID Field:
Fields:
None
Default Mosaic Method: Center
Allowed Mosaic Methods:
SortField:
SortValue: null
Mosaic Operator: First
Default Compression Quality: 75
Default Resampling Method: Bilinear
Max Record Count: null
Max Image Height: 4100
Max Image Width: 15000
Max Download Image Count: null
Max Mosaic Image Count: null
Allow Raster Function: true
Allow Copy: true
Allow Analysis: true
Allow Compute TiePoints: false
Supports Statistics: false
Supports Advanced Queries: false
Use StandardizedQueries: true
Raster Type Infos:
Name: Raster Dataset
Description: Supports all ArcGIS Raster Datasets
Help:
Has Raster Attribute Table: false
Edit Fields Info: null
Ownership Based AccessControl For Rasters: null
Child Resources:
Info
Histograms
Statistics
Key Properties
Legend
Raster Function Infos
Supported Operations:
Export Image
Identify
Measure
Compute Histograms
Compute Statistics Histograms
Get Samples
Compute Class Statistics
Query Boundary
Compute Pixel Location
Compute Angles
Validate
Project