View In:
ArcGIS JavaScript
ArcGIS Online Map Viewer
ArcGIS Earth
Service Description: Cartografia_1925
Name: Cartografia_1925
Description:
Single Fused Map Cache: false
Extent:
XMin: -49202.231341267005
YMin: 166790.3477934096
XMax: -42739.79324508831
YMax: 171034.4909856869
Spatial Reference: 3763
(3763)
LatestVCSWkid(0)
Initial Extent:
XMin: -49202.231341267005
YMin: 166790.3477934096
XMax: -42739.79324508831
YMax: 171034.4909856869
Spatial Reference: 3763
(3763)
LatestVCSWkid(0)
Full Extent:
XMin: -49202.231341267005
YMin: 166790.3477934096
XMax: -42739.79324508831
YMax: 171034.4909856869
Spatial Reference: 3763
(3763)
LatestVCSWkid(0)
Pixel Size X: 0.4485935093834996
Pixel Size Y: 0.4485935093834996
Band Count: 3
Pixel Type: U8
RasterFunction Infos: {"rasterFunctionInfos": [{
"name": "None",
"description": "",
"help": ""
}]}
Mensuration Capabilities: Basic
Inspection Capabilities:
Has Histograms: true
Has Colormap: false
Has Multi Dimensions : false
Rendering Rule:
Min Scale: 0
Max Scale: 0
Copyright Text:
Service Data Type: esriImageServiceDataTypeRGB
Min Values: 90, 25, 10
Max Values: 241, 214, 170
Mean Values: 194.40215037054617, 156.83214795922325, 115.45924594963893
Standard Deviation Values: 26.39421684987666, 39.90814364867039, 36.68293168883172
Object ID Field:
Fields:
None
Default Mosaic Method: Center
Allowed Mosaic Methods:
SortField:
SortValue: null
Mosaic Operator: First
Default Compression Quality: 75
Default Resampling Method: Bilinear
Max Record Count: null
Max Image Height: 4100
Max Image Width: 15000
Max Download Image Count: null
Max Mosaic Image Count: null
Allow Raster Function: true
Allow Copy: true
Allow Analysis: true
Allow Compute TiePoints: false
Supports Statistics: false
Supports Advanced Queries: false
Use StandardizedQueries: true
Raster Type Infos:
Name: Raster Dataset
Description: Supports all ArcGIS Raster Datasets
Help:
Has Raster Attribute Table: false
Edit Fields Info: null
Ownership Based AccessControl For Rasters: null
Child Resources:
Info
Histograms
Statistics
Key Properties
Legend
Raster Function Infos
Supported Operations:
Export Image
Identify
Measure
Compute Histograms
Compute Statistics Histograms
Get Samples
Compute Class Statistics
Query Boundary
Compute Pixel Location
Compute Angles
Validate
Project