View In:
ArcGIS JavaScript
ArcGIS Online Map Viewer
ArcGIS Earth
Service Description: Cartografia_1942
Name: Cartografia_1942
Description:
Single Fused Map Cache: false
Extent:
XMin: -48959.58471415985
YMin: 166584.67539821705
XMax: -44459.36776720038
YMax: 170785.30793165008
Spatial Reference: 3763
(3763)
LatestVCSWkid(0)
Initial Extent:
XMin: -48959.58471415985
YMin: 166584.67539821705
XMax: -44459.36776720038
YMax: 170785.30793165008
Spatial Reference: 3763
(3763)
LatestVCSWkid(0)
Full Extent:
XMin: -48959.58471415985
YMin: 166584.67539821705
XMax: -44459.36776720038
YMax: 170785.30793165008
Spatial Reference: 3763
(3763)
LatestVCSWkid(0)
Pixel Size X: 0.15001723271416315
Pixel Size Y: 0.15001723272143966
Band Count: 1
Pixel Type: U8
RasterFunction Infos: {"rasterFunctionInfos": [{
"name": "None",
"description": "",
"help": ""
}]}
Mensuration Capabilities: Basic
Inspection Capabilities:
Has Histograms: true
Has Colormap: false
Has Multi Dimensions : false
Rendering Rule:
Min Scale: 0
Max Scale: 0
Copyright Text:
Service Data Type: esriImageServiceDataTypeGeneric
Min Values: 48
Max Values: 255
Mean Values: 200.12110905859282
Standard Deviation Values: 30.550989245853817
Object ID Field:
Fields:
None
Default Mosaic Method: Center
Allowed Mosaic Methods:
SortField:
SortValue: null
Mosaic Operator: First
Default Compression Quality: 75
Default Resampling Method: Bilinear
Max Record Count: null
Max Image Height: 4100
Max Image Width: 15000
Max Download Image Count: null
Max Mosaic Image Count: null
Allow Raster Function: true
Allow Copy: true
Allow Analysis: true
Allow Compute TiePoints: false
Supports Statistics: false
Supports Advanced Queries: false
Use StandardizedQueries: true
Raster Type Infos:
Name: Raster Dataset
Description: Supports all ArcGIS Raster Datasets
Help:
Has Raster Attribute Table: false
Edit Fields Info: null
Ownership Based AccessControl For Rasters: null
Child Resources:
Info
Histograms
Statistics
Key Properties
Legend
Raster Function Infos
Supported Operations:
Export Image
Identify
Measure
Compute Histograms
Compute Statistics Histograms
Get Samples
Compute Class Statistics
Query Boundary
Compute Pixel Location
Compute Angles
Validate
Project