View In:
ArcGIS JavaScript
ArcGIS Online Map Viewer
ArcGIS Earth
Service Description: Cartografia_1944_1952
Name: Cartografia_1944_1952
Description:
Single Fused Map Cache: false
Extent:
XMin: -50059.47380637005
YMin: 166584.53975205682
XMax: -38159.28274428658
YMax: 178585.78024862707
Spatial Reference: 3763
(3763)
LatestVCSWkid(0)
Initial Extent:
XMin: -50059.47380637005
YMin: 166584.53975205682
XMax: -38159.28274428658
YMax: 178585.78024862707
Spatial Reference: 3763
(3763)
LatestVCSWkid(0)
Full Extent:
XMin: -50059.47380637005
YMin: 166584.53975205682
XMax: -38159.28274428658
YMax: 178585.78024862707
Spatial Reference: 3763
(3763)
LatestVCSWkid(0)
Pixel Size X: 0.12001120485365391
Pixel Size Y: 0.12001120485365391
Band Count: 3
Pixel Type: U8
RasterFunction Infos: {"rasterFunctionInfos": [{
"name": "None",
"description": "",
"help": ""
}]}
Mensuration Capabilities: Basic
Inspection Capabilities:
Has Histograms: true
Has Colormap: false
Has Multi Dimensions : false
Rendering Rule:
Min Scale: 0
Max Scale: 0
Copyright Text:
Service Data Type: esriImageServiceDataTypeRGB
Min Values: 1, 1, 1
Max Values: 255, 255, 255
Mean Values: 192.5117791042293, 187.0536336916668, 170.17394166819923
Standard Deviation Values: 24.199616342249023, 26.193330742802694, 31.023270856530157
Object ID Field:
Fields:
None
Default Mosaic Method: Center
Allowed Mosaic Methods:
SortField:
SortValue: null
Mosaic Operator: First
Default Compression Quality: 75
Default Resampling Method: Bilinear
Max Record Count: null
Max Image Height: 4100
Max Image Width: 15000
Max Download Image Count: null
Max Mosaic Image Count: null
Allow Raster Function: true
Allow Copy: true
Allow Analysis: true
Allow Compute TiePoints: false
Supports Statistics: false
Supports Advanced Queries: false
Use StandardizedQueries: true
Raster Type Infos:
Name: Raster Dataset
Description: Supports all ArcGIS Raster Datasets
Help:
Has Raster Attribute Table: false
Edit Fields Info: null
Ownership Based AccessControl For Rasters: null
Child Resources:
Info
Histograms
Statistics
Key Properties
Legend
Raster Function Infos
Supported Operations:
Export Image
Identify
Measure
Compute Histograms
Compute Statistics Histograms
Get Samples
Compute Class Statistics
Query Boundary
Compute Pixel Location
Compute Angles
Validate
Project