View In:
ArcGIS JavaScript
ArcGIS Online Map Viewer
ArcGIS Earth
Service Description: Cartografia_1957
Name: Cartografia_1957
Description:
Single Fused Map Cache: false
Extent:
XMin: -51199.57114141155
YMin: 166996.19481025636
XMax: -38399.24462054577
YMax: 178995.89670256618
Spatial Reference: 3763
(3763)
LatestVCSWkid(0)
Initial Extent:
XMin: -51199.57114141155
YMin: 166996.19481025636
XMax: -38399.24462054577
YMax: 178995.89670256618
Spatial Reference: 3763
(3763)
LatestVCSWkid(0)
Full Extent:
XMin: -51199.57114141155
YMin: 166996.19481025636
XMax: -38399.24462054577
YMax: 178995.89670256618
Spatial Reference: 3763
(3763)
LatestVCSWkid(0)
Pixel Size X: 0.2544088428840041
Pixel Size Y: 0.2544088428840041
Band Count: 1
Pixel Type: U8
RasterFunction Infos: {"rasterFunctionInfos": [{
"name": "None",
"description": "",
"help": ""
}]}
Mensuration Capabilities: Basic
Inspection Capabilities:
Has Histograms: true
Has Colormap: false
Has Multi Dimensions : false
Rendering Rule:
Min Scale: 0
Max Scale: 0
Copyright Text:
Service Data Type: esriImageServiceDataTypeGeneric
Min Values: 0
Max Values: 255
Mean Values: 214.6543458852382
Standard Deviation Values: 40.66752821244042
Object ID Field:
Fields:
None
Default Mosaic Method: Center
Allowed Mosaic Methods:
SortField:
SortValue: null
Mosaic Operator: First
Default Compression Quality: 75
Default Resampling Method: Bilinear
Max Record Count: null
Max Image Height: 4100
Max Image Width: 15000
Max Download Image Count: null
Max Mosaic Image Count: null
Allow Raster Function: true
Allow Copy: true
Allow Analysis: true
Allow Compute TiePoints: false
Supports Statistics: false
Supports Advanced Queries: false
Use StandardizedQueries: true
Raster Type Infos:
Name: Raster Dataset
Description: Supports all ArcGIS Raster Datasets
Help:
Has Raster Attribute Table: false
Edit Fields Info: null
Ownership Based AccessControl For Rasters: null
Child Resources:
Info
Histograms
Statistics
Key Properties
Legend
Raster Function Infos
Supported Operations:
Export Image
Identify
Measure
Compute Histograms
Compute Statistics Histograms
Get Samples
Compute Class Statistics
Query Boundary
Compute Pixel Location
Compute Angles
Validate
Project