View In:
ArcGIS JavaScript
ArcGIS Online Map Viewer
ArcGIS Earth
Service Description: Cartografia_1983
Name: Cartografia_1983
Description:
Single Fused Map Cache: false
Extent:
XMin: -50399.49941941071
YMin: 166995.91093466897
XMax: -38400.05721570738
YMax: 178496.24635684397
Spatial Reference: 3763
(3763)
LatestVCSWkid(0)
Initial Extent:
XMin: -50399.49941941071
YMin: 166995.91093466897
XMax: -38400.05721570738
YMax: 178496.24635684397
Spatial Reference: 3763
(3763)
LatestVCSWkid(0)
Full Extent:
XMin: -50399.49941941071
YMin: 166995.91093466897
XMax: -38400.05721570738
YMax: 178496.24635684397
Spatial Reference: 3763
(3763)
LatestVCSWkid(0)
Pixel Size X: 0.07999788131564856
Pixel Size Y: 0.07999788131564856
Band Count: 1
Pixel Type: U8
RasterFunction Infos: {"rasterFunctionInfos": [{
"name": "None",
"description": "",
"help": ""
}]}
Mensuration Capabilities: Basic
Inspection Capabilities:
Has Histograms: true
Has Colormap: false
Has Multi Dimensions : false
Rendering Rule:
Min Scale: 0
Max Scale: 0
Copyright Text:
Service Data Type: esriImageServiceDataTypeGeneric
Min Values: 1
Max Values: 255
Mean Values: 228.72307258168848
Standard Deviation Values: 41.93464103085147
Object ID Field:
Fields:
None
Default Mosaic Method: Center
Allowed Mosaic Methods:
SortField:
SortValue: null
Mosaic Operator: First
Default Compression Quality: 75
Default Resampling Method: Bilinear
Max Record Count: null
Max Image Height: 4100
Max Image Width: 15000
Max Download Image Count: null
Max Mosaic Image Count: null
Allow Raster Function: true
Allow Copy: true
Allow Analysis: true
Allow Compute TiePoints: false
Supports Statistics: false
Supports Advanced Queries: false
Use StandardizedQueries: true
Raster Type Infos:
Name: Raster Dataset
Description: Supports all ArcGIS Raster Datasets
Help:
Has Raster Attribute Table: false
Edit Fields Info: null
Ownership Based AccessControl For Rasters: null
Child Resources:
Info
Histograms
Statistics
Key Properties
Legend
Raster Function Infos
Supported Operations:
Export Image
Identify
Measure
Compute Histograms
Compute Statistics Histograms
Get Samples
Compute Class Statistics
Query Boundary
Compute Pixel Location
Compute Angles
Validate
Project