View In:
ArcGIS JavaScript
ArcGIS Online Map Viewer
ArcGIS Earth
Service Description: Cartografia_1983_1979
Name: Cartografia_1983_1979
Description:
Single Fused Map Cache: false
Extent:
XMin: -47199.43543876987
YMin: 166995.8152734246
XMax: -38435.88334858604
YMax: 168995.86556490883
Spatial Reference: 3763
(3763)
LatestVCSWkid(0)
Initial Extent:
XMin: -47199.43543876987
YMin: 166995.8152734246
XMax: -38435.88334858604
YMax: 168995.86556490883
Spatial Reference: 3763
(3763)
LatestVCSWkid(0)
Full Extent:
XMin: -47199.43543876987
YMin: 166995.8152734246
XMax: -38435.88334858604
YMax: 168995.86556490883
Spatial Reference: 3763
(3763)
LatestVCSWkid(0)
Pixel Size X: 0.0800024839118123
Pixel Size Y: 0.0799988117069006
Band Count: 3
Pixel Type: U8
RasterFunction Infos: {"rasterFunctionInfos": [{
"name": "None",
"description": "",
"help": ""
}]}
Mensuration Capabilities: Basic
Inspection Capabilities:
Has Histograms: true
Has Colormap: false
Has Multi Dimensions : false
Rendering Rule:
Min Scale: 0
Max Scale: 0
Copyright Text:
Service Data Type: esriImageServiceDataTypeRGB
Min Values: 1, 1, 1
Max Values: 255, 255, 243
Mean Values: 207.25856343126125, 153.37267118505264, 120.25885786503048
Standard Deviation Values: 31.6401142857415, 39.567773299466175, 36.07251669130742
Object ID Field:
Fields:
None
Default Mosaic Method: Center
Allowed Mosaic Methods:
SortField:
SortValue: null
Mosaic Operator: First
Default Compression Quality: 75
Default Resampling Method: Bilinear
Max Record Count: null
Max Image Height: 4100
Max Image Width: 15000
Max Download Image Count: null
Max Mosaic Image Count: null
Allow Raster Function: true
Allow Copy: true
Allow Analysis: true
Allow Compute TiePoints: false
Supports Statistics: false
Supports Advanced Queries: false
Use StandardizedQueries: true
Raster Type Infos:
Name: Raster Dataset
Description: Supports all ArcGIS Raster Datasets
Help:
Has Raster Attribute Table: false
Edit Fields Info: null
Ownership Based AccessControl For Rasters: null
Child Resources:
Info
Histograms
Statistics
Key Properties
Legend
Raster Function Infos
Supported Operations:
Export Image
Identify
Measure
Compute Histograms
Compute Statistics Histograms
Get Samples
Compute Class Statistics
Query Boundary
Compute Pixel Location
Compute Angles
Validate
Project