View In:
ArcGIS JavaScript
ArcGIS Online Map Viewer
ArcGIS Earth
Service Description: Ortofoto_1983
Name: Ortofoto_1983
Description:
Single Fused Map Cache: false
Extent:
XMin: -49969.956005490385
YMin: 166494.37615259638
XMax: -38275.04338118038
YMax: 178654.83357732836
Spatial Reference: 3763
(3763)
LatestVCSWkid(0)
Initial Extent:
XMin: -49969.956005490385
YMin: 166494.37615259638
XMax: -38275.04338118038
YMax: 178654.83357732836
Spatial Reference: 3763
(3763)
LatestVCSWkid(0)
Full Extent:
XMin: -49969.956005490385
YMin: 166494.37615259638
XMax: -38275.04338118038
YMax: 178654.83357732836
Spatial Reference: 3763
(3763)
LatestVCSWkid(0)
Pixel Size X: 0.44801228257393516
Pixel Size Y: 0.4478000230053021
Band Count: 3
Pixel Type: U8
RasterFunction Infos: {"rasterFunctionInfos": [{
"name": "None",
"description": "",
"help": ""
}]}
Mensuration Capabilities: Basic
Inspection Capabilities:
Has Histograms: true
Has Colormap: false
Has Multi Dimensions : false
Rendering Rule:
Min Scale: 0
Max Scale: 0
Copyright Text:
Service Data Type: esriImageServiceDataTypeRGB
Min Values: 0, 0, 0
Max Values: 255, 255, 255
Mean Values: 190.75488911791112, 191.01014243416105, 190.31449733178056
Standard Deviation Values: 69.38631220154599, 69.19743850935116, 69.6687664786128
Object ID Field:
Fields:
None
Default Mosaic Method: Center
Allowed Mosaic Methods:
SortField:
SortValue: null
Mosaic Operator: First
Default Compression Quality: 75
Default Resampling Method: Bilinear
Max Record Count: null
Max Image Height: 4100
Max Image Width: 15000
Max Download Image Count: null
Max Mosaic Image Count: null
Allow Raster Function: true
Allow Copy: true
Allow Analysis: true
Allow Compute TiePoints: false
Supports Statistics: false
Supports Advanced Queries: false
Use StandardizedQueries: true
Raster Type Infos:
Name: Raster Dataset
Description: Supports all ArcGIS Raster Datasets
Help:
Has Raster Attribute Table: false
Edit Fields Info: null
Ownership Based AccessControl For Rasters: null
Child Resources:
Info
Histograms
Statistics
Key Properties
Legend
Raster Function Infos
Supported Operations:
Export Image
Identify
Measure
Compute Histograms
Compute Statistics Histograms
Get Samples
Compute Class Statistics
Query Boundary
Compute Pixel Location
Compute Angles
Validate
Project