View In:
ArcGIS JavaScript
ArcGIS Online Map Viewer
ArcGIS Earth
Service Description: Ortofoto_2007
Name: Ortofoto_2007
Description:
Single Fused Map Cache: false
Extent:
XMin: -50006.095889256336
YMin: 166494.36938569695
XMax: -38505.99700656254
YMax: 178993.94209827948
Spatial Reference: 3763
(3763)
LatestVCSWkid(0)
Initial Extent:
XMin: -50006.095889256336
YMin: 166494.36938569695
XMax: -38505.99700656254
YMax: 178993.94209827948
Spatial Reference: 3763
(3763)
LatestVCSWkid(0)
Full Extent:
XMin: -50006.095889256336
YMin: 166494.36938569695
XMax: -38505.99700656254
YMax: 178993.94209827948
Spatial Reference: 3763
(3763)
LatestVCSWkid(0)
Pixel Size X: 0.09999738167971373
Pixel Size Y: 0.09999738167971373
Band Count: 3
Pixel Type: U8
RasterFunction Infos: {"rasterFunctionInfos": [{
"name": "None",
"description": "",
"help": ""
}]}
Mensuration Capabilities: Basic
Inspection Capabilities:
Has Histograms: true
Has Colormap: false
Has Multi Dimensions : false
Rendering Rule:
Min Scale: 0
Max Scale: 0
Copyright Text:
Service Data Type: esriImageServiceDataTypeRGB
Min Values: 0, 0, 0
Max Values: 255, 255, 255
Mean Values: 149.1177458555405, 152.15450757087433, 137.3376606854696
Standard Deviation Values: 62.704345813496694, 56.96119430343374, 57.368872980500164
Object ID Field:
Fields:
None
Default Mosaic Method: Center
Allowed Mosaic Methods:
SortField:
SortValue: null
Mosaic Operator: First
Default Compression Quality: 75
Default Resampling Method: Bilinear
Max Record Count: null
Max Image Height: 4100
Max Image Width: 15000
Max Download Image Count: null
Max Mosaic Image Count: null
Allow Raster Function: true
Allow Copy: true
Allow Analysis: true
Allow Compute TiePoints: false
Supports Statistics: false
Supports Advanced Queries: false
Use StandardizedQueries: true
Raster Type Infos:
Name: Raster Dataset
Description: Supports all ArcGIS Raster Datasets
Help:
Has Raster Attribute Table: false
Edit Fields Info: null
Ownership Based AccessControl For Rasters: null
Child Resources:
Info
Histograms
Statistics
Key Properties
Legend
Raster Function Infos
Supported Operations:
Export Image
Identify
Measure
Compute Histograms
Compute Statistics Histograms
Get Samples
Compute Class Statistics
Query Boundary
Compute Pixel Location
Compute Angles
Validate
Project