View In:
ArcGIS JavaScript
ArcGIS Online Map Viewer
ArcGIS Earth
Service Description: Ortofoto_2010
Name: Ortofoto_2010
Description:
Single Fused Map Cache: false
Extent:
XMin: -50600.06365435384
YMin: 166989.99323666375
XMax: -38590.04445679672
YMax: 178500.02650230844
Spatial Reference: 3763
(3763)
LatestVCSWkid(0)
Initial Extent:
XMin: -50600.06365435384
YMin: 166989.99323666375
XMax: -38590.04445679672
YMax: 178500.02650230844
Spatial Reference: 3763
(3763)
LatestVCSWkid(0)
Full Extent:
XMin: -50600.06365435384
YMin: 166989.99323666375
XMax: -38590.04445679672
YMax: 178500.02650230844
Spatial Reference: 3763
(3763)
LatestVCSWkid(0)
Pixel Size X: 0.0999993272125721
Pixel Size Y: 0.09999855142086744
Band Count: 3
Pixel Type: U8
RasterFunction Infos: {"rasterFunctionInfos": [{
"name": "None",
"description": "",
"help": ""
}]}
Mensuration Capabilities: Basic
Inspection Capabilities:
Has Histograms: true
Has Colormap: false
Has Multi Dimensions : false
Rendering Rule:
Min Scale: 0
Max Scale: 0
Copyright Text:
Service Data Type: esriImageServiceDataTypeRGB
Min Values: 0, 0, 0
Max Values: 255, 255, 255
Mean Values: 134.42303129518152, 130.30264576316802, 122.10084943320531
Standard Deviation Values: 54.32251527232787, 47.47787245512919, 45.807047966798905
Object ID Field:
Fields:
None
Default Mosaic Method: Center
Allowed Mosaic Methods:
SortField:
SortValue: null
Mosaic Operator: First
Default Compression Quality: 75
Default Resampling Method: Bilinear
Max Record Count: null
Max Image Height: 4100
Max Image Width: 15000
Max Download Image Count: null
Max Mosaic Image Count: null
Allow Raster Function: true
Allow Copy: true
Allow Analysis: true
Allow Compute TiePoints: false
Supports Statistics: false
Supports Advanced Queries: false
Use StandardizedQueries: true
Raster Type Infos:
Name: Raster Dataset
Description: Supports all ArcGIS Raster Datasets
Help:
Has Raster Attribute Table: false
Edit Fields Info: null
Ownership Based AccessControl For Rasters: null
Child Resources:
Info
Histograms
Statistics
Key Properties
Legend
Raster Function Infos
Supported Operations:
Export Image
Identify
Measure
Compute Histograms
Compute Statistics Histograms
Get Samples
Compute Class Statistics
Query Boundary
Compute Pixel Location
Compute Angles
Validate
Project