View In:
ArcGIS JavaScript
ArcGIS Online Map Viewer
ArcGIS Earth
Service Description:
Name: Ortofoto_2019
Description:
Single Fused Map Cache: false
Extent:
XMin: -51199.99366861954
YMin: 165999.97664777003
XMax: -38399.99371630326
YMax: 178999.97659934126
Spatial Reference: 3763
(3763)
LatestVCSWkid(0)
Initial Extent:
XMin: -51199.99366861954
YMin: 165999.97664777003
XMax: -38399.99371630326
YMax: 178999.97659934126
Spatial Reference: 3763
(3763)
LatestVCSWkid(0)
Full Extent:
XMin: -51199.99366861954
YMin: 165999.97664777003
XMax: -38399.99371630326
YMax: 178999.97659934126
Spatial Reference: 3763
(3763)
LatestVCSWkid(0)
Pixel Size X: 0.09999999962747097
Pixel Size Y: 0.09999999962747097
Band Count: 3
Pixel Type: U8
RasterFunction Infos: {"rasterFunctionInfos": [{
"name": "None",
"description": "",
"help": ""
}]}
Mensuration Capabilities: Basic
Inspection Capabilities:
Has Histograms: true
Has Colormap: false
Has Multi Dimensions : false
Rendering Rule:
Min Scale: 0
Max Scale: 0
Copyright Text:
Service Data Type: esriImageServiceDataTypeRGB
Min Values: 0, 0, 0
Max Values: 255, 255, 255
Mean Values: 100.24076860252886, 96.03599471063569, 79.30831249006202
Standard Deviation Values: 64.4449300822802, 57.63149586614696, 55.77548304816033
Object ID Field:
Fields:
None
Default Mosaic Method: Center
Allowed Mosaic Methods:
SortField:
SortValue: null
Mosaic Operator: First
Default Compression Quality: 75
Default Resampling Method: Bilinear
Max Record Count: null
Max Image Height: 4100
Max Image Width: 15000
Max Download Image Count: null
Max Mosaic Image Count: null
Allow Raster Function: true
Allow Copy: true
Allow Analysis: true
Allow Compute TiePoints: false
Supports Statistics: false
Supports Advanced Queries: false
Use StandardizedQueries: true
Raster Type Infos:
Name: Raster Dataset
Description: Supports all ArcGIS Raster Datasets
Help:
Has Raster Attribute Table: false
Edit Fields Info: null
Ownership Based AccessControl For Rasters: null
Child Resources:
Info
Histograms
Statistics
Key Properties
Legend
Raster Function Infos
Supported Operations:
Export Image
Identify
Measure
Compute Histograms
Compute Statistics Histograms
Get Samples
Compute Class Statistics
Query Boundary
Compute Pixel Location
Compute Angles
Validate
Project