View In:
ArcGIS JavaScript
ArcGIS Online Map Viewer
ArcGIS Earth
Service Description:
Name: C03ORT_ORTOS2021
Description:
Single Fused Map Cache: false
Extent:
XMin: -51199.972911883146
YMin: 165999.95636936495
XMax: -38399.972911882876
YMax: 178999.9563693665
Spatial Reference: 3763
(3763)
LatestVCSWkid(0)
Initial Extent:
XMin: -51199.972911883146
YMin: 165999.95636936495
XMax: -38399.972911882876
YMax: 178999.9563693665
Spatial Reference: 3763
(3763)
LatestVCSWkid(0)
Full Extent:
XMin: -51199.972911883146
YMin: 165999.95636936495
XMax: -38399.972911882876
YMax: 178999.9563693665
Spatial Reference: 3763
(3763)
LatestVCSWkid(0)
Pixel Size X: 0.1000000000000021
Pixel Size Y: 0.10000000000001187
Band Count: 3
Pixel Type: U8
RasterFunction Infos: {"rasterFunctionInfos": [{
"name": "None",
"description": "",
"help": ""
}]}
Mensuration Capabilities: Basic
Inspection Capabilities:
Has Histograms: true
Has Colormap: false
Has Multi Dimensions : false
Rendering Rule:
Min Scale: 0
Max Scale: 0
Copyright Text:
Service Data Type: esriImageServiceDataTypeRGB
Min Values: 1, 1, 1
Max Values: 255, 255, 255
Mean Values: 101.25419646289916, 97.54036167156023, 92.76839698506669
Standard Deviation Values: 68.9651245117479, 53.63555019143255, 51.29204965704482
Object ID Field:
Fields:
None
Default Mosaic Method: Center
Allowed Mosaic Methods:
SortField:
SortValue: null
Mosaic Operator: First
Default Compression Quality: 75
Default Resampling Method: Bilinear
Max Record Count: null
Max Image Height: 4100
Max Image Width: 15000
Max Download Image Count: null
Max Mosaic Image Count: null
Allow Raster Function: true
Allow Copy: true
Allow Analysis: true
Allow Compute TiePoints: false
Supports Statistics: false
Supports Advanced Queries: false
Use StandardizedQueries: true
Raster Type Infos:
Name: Raster Dataset
Description: Supports all ArcGIS Raster Datasets
Help:
Has Raster Attribute Table: false
Edit Fields Info: null
Ownership Based AccessControl For Rasters: null
Child Resources:
Info
Histograms
Statistics
Key Properties
Legend
Raster Function Infos
Supported Operations:
Export Image
Identify
Measure
Compute Histograms
Compute Statistics Histograms
Get Samples
Compute Class Statistics
Query Boundary
Compute Pixel Location
Compute Angles
Validate
Project