View In:
ArcGIS JavaScript
ArcGIS Online Map Viewer
ArcGIS Earth
Service Description: C03ORT_ORTOS2025
Name: C03ORT_ORTOS2025
Description:
Single Fused Map Cache: false
Extent:
XMin: -50014.372911999
YMin: 167016.55637001377
XMax: -38737.072911999
YMax: 178416.45637001377
Spatial Reference: 3763
(3763)
LatestVCSWkid(0)
Initial Extent:
XMin: -50014.372911999
YMin: 167016.55637001377
XMax: -38737.072911999
YMax: 178416.45637001377
Spatial Reference: 3763
(3763)
LatestVCSWkid(0)
Full Extent:
XMin: -50014.372911999
YMin: 167016.55637001377
XMax: -38737.072911999
YMax: 178416.45637001377
Spatial Reference: 3763
(3763)
LatestVCSWkid(0)
Pixel Size X: 0.10000000000000002
Pixel Size Y: 0.09999999999999995
Band Count: 4
Pixel Type: U8
RasterFunction Infos: {"rasterFunctionInfos": [{
"name": "None",
"description": "",
"help": ""
}]}
Mensuration Capabilities: Basic
Inspection Capabilities:
Has Histograms: true
Has Colormap: false
Has Multi Dimensions : false
Rendering Rule:
Min Scale: 0
Max Scale: 0
Copyright Text:
Service Data Type: esriImageServiceDataTypeGeneric
Min Values: 1, 1, 1, 1
Max Values: 255, 255, 255, 255
Mean Values: 115.25483769060563, 114.47682981829641, 118.03877908071905, 254.937121059557
Standard Deviation Values: 60.77431877033034, 52.325417188876244, 49.11431224067383, 3.265408821114934
Object ID Field:
Fields:
None
Default Mosaic Method: Center
Allowed Mosaic Methods:
SortField:
SortValue: null
Mosaic Operator: First
Default Compression Quality: 75
Default Resampling Method: Bilinear
Max Record Count: null
Max Image Height: 4100
Max Image Width: 15000
Max Download Image Count: null
Max Mosaic Image Count: null
Allow Raster Function: true
Allow Copy: true
Allow Analysis: true
Allow Compute TiePoints: false
Supports Statistics: false
Supports Advanced Queries: false
Use StandardizedQueries: true
Raster Type Infos:
Name: Raster Dataset
Description: Supports all ArcGIS Raster Datasets
Help:
Has Raster Attribute Table: false
Edit Fields Info: null
Ownership Based AccessControl For Rasters: null
Child Resources:
Info
Histograms
Statistics
Key Properties
Legend
Raster Function Infos
Supported Operations:
Export Image
Identify
Measure
Compute Histograms
Compute Statistics Histograms
Get Samples
Compute Class Statistics
Query Boundary
Compute Pixel Location
Compute Angles
Validate
Project